BEGIN:VCALENDAR
VERSION:2.0
CALSCALE:GREGORIAN
PRODID:-//MyApp//Calendar 1.0//EN
BEGIN:VEVENT
METHOD:PUBLISH
UID:44068@regionalniportaly.cz
DTSTAMP:20260422T021923Z
DTSTART;VALUE=DATE:20240727
DTEND;VALUE=DATE:20240728
SUMMARY:Keltský svátek LUGHNASAD
DESCRIPTION:Lughnasad27. 07. 2024 18:00Lughnasad na Housově mlýně v&nbsp\;Táboře - pro všechny\, kterým koluje v&nbsp\;těle keltská krev a&nbsp\;pro všechny\, kteří touží dodržet dávné rituály dob minulých.Při&nbsp\;Lughnasadu obnovujeme rituál sklizně. Keltský svátek Lughnasad stojí na počátku sestupu Slunce do&nbsp\;zimní temnoty. Oslavuje se&nbsp\;zázrak setby\, klíčení\, zrání a&nbsp\;život sám. O&nbsp\;svátku se&nbsp\;mluví jako o&nbsp\;předchůdci dožínek. Lughnasad je časem napětí\, kdy tmavé zimní dny se&nbsp\;začnou zvolna ohlašovat a&nbsp\;úroda ještě není všechna v&nbsp\;bezpečí. Účastí při&nbsp\;svátku si lidé zajišťují dostatek mléka\, obilí\, ochranu před loupežnými nájezdy\, spravedlivé zákony\, domácí pohodlí a&nbsp\;dobrou úrodu ovoce.Těšit se&nbsp\;opět můžete také na Vyprávění s&nbsp\;harfou.Akce se&nbsp\;koná za&nbsp\;podpory města Tábor.Programživá kapela v&nbsp\;krčměkeltský rituál sklizněvyprávění v&nbsp\;doprovodu harfyirské příběhyprohlídky filmové zbrojniceukázky keltského bojedětské hry - lukostřelba\, hod oštěpem...
LOCATION:Tábor
END:VEVENT
END:VCALENDAR