BEGIN:VCALENDAR
VERSION:2.0
CALSCALE:GREGORIAN
PRODID:-//MyApp//Calendar 1.0//EN
BEGIN:VEVENT
METHOD:PUBLISH
UID:43670@regionalniportaly.cz
DTSTAMP:20260422T005123Z
DTSTART;VALUE=DATE:20240706
DTEND;VALUE=DATE:20240707
SUMMARY:Rekonstrukce oslav výročí Mistra Jana Husa
DESCRIPTION:Rekonstrukce oslav výročí Mistra Jana HusaKaždý rok si státním svátkem připomínáme upálení Mistra Jana Husa\,upálení\, které mělo zásadní vliv na dějinné události v&nbsp\;Čechách\, přineslohusitské války a&nbsp\;předznamenalo vývoj k&nbsp\;německé reformaci a&nbsp\;rozpadkatolické univerzality.Zapalování ohně pojímáme jako intimní neopulentní připomínkuúmrtí všech osob zahynuvších v&nbsp\;plamenech\, připomínáme si tímprostřednictvím slavného dne Jana Husa oběti všech čarodějnickýchprocesů\, živé zápalné oběti Jana Palacha\, Zajíce a&nbsp\;dalších.&nbsp\;&nbsp\;
LOCATION:Tábor
END:VEVENT
END:VCALENDAR