BEGIN:VCALENDAR
VERSION:2.0
CALSCALE:GREGORIAN
PRODID:-//MyApp//Calendar 1.0//EN
BEGIN:VEVENT
METHOD:PUBLISH
UID:43660@regionalniportaly.cz
DTSTAMP:20260422T005018Z
DTSTART;VALUE=DATE:20240907
DTEND;VALUE=DATE:20240908
SUMMARY:Naďa Konvalinková - Můj život je... Báječný film - talk show
DESCRIPTION:Najděte si čas na letošní třetí talk show s milou a krásnou herečkou\, paní Naďou Konvalinkovou.&nbsp\;&nbsp\;Naďa Konvalinková\, vlastním jménem Naděžda Konvalinková\, je česká divadelní a filmová herečka\, moderátorka\, stálá členka souboru Divadla na Vinohradech.&nbsp\;&nbsp\;K divadlu se dostala poprvé při studiu na Gymnáziu Jana Nerudy v Hellichově ulici v Praze. Zpočátku hrála většinou mladé naivky a prosté dívky (viz jednu z nejznámějších filmových rolí Nadi Konvalinkové\, dívenku Květušku z filmu Adéla ještě nevečeřela)\, s přibývajícím věkem se postupně přehrála do polohy zralých žen a hodných i moudrých maminek. V současnosti hostuje v pražských divadlech Kalich\, Broadway\, U Hasičů\, Viola\, U Valšů a v Branickém divadle. V Českém rozhlasu na regionálních stanicích spolumoderuje a je porotkyní v pořadu Pochoutkový rok. Namluvila několik večerníčků (např. Hajadla)\, uplatňuje se také jako moderátorka dětských televizních pořadů a patří k úspěšným dabingovým herečkám.&nbsp\;&nbsp\;Talk show\, kde moderátor Tomáš Kubík probere s paní Naďou všechny \,\, Veselé historky z natáčení\,\, a nejen to :)&nbsp\;Vstupenka - sektor A - v ceně vstupenky - welcome drink - focení - autogramiáda - zapůjčení podsedáku zdarma - kino - film - \,\,Adéla ještě nevečeřela\,\, Program - časová osa: - otevření areálu - 17.00hod. Talk show 18.00 - 20.00hodin - přestávka 20.00 až 21.00 hod.\, na focení\, autogramiádu\, občerstvení\, ... - 21.00 až 21.30hod.\, promítnutí filmu - \,\,Adéla ještě nevečeřela\,\,&nbsp\;&nbsp\;Základní vstupenka - sektor B - 100 míst k sezení - v ceně vstupenky - welcome drink - focení - autogramiáda - zapůjčení podsedáku zdarma - kino - film - \,\,Adéla ještě nevečeřela\,\, Program - časová osa: - otevření areálu - 17.00hod. Talk show 18.00 - 20.00hodin - přestávka 20.00 až 21.00 hod.\, na focení\, autogramiádu\, občerstvení\, ... - 21.00 až 21.30hod.\, promítnutí filmu - \,\,Adéla ještě nevečeřela\,\,&nbsp\;Vstup do areálu - 17hodin\, možnost parkování hned vedle letního parketu :)
LOCATION:Heřmaničky
END:VEVENT
END:VCALENDAR