BEGIN:VCALENDAR
VERSION:2.0
CALSCALE:GREGORIAN
PRODID:-//MyApp//Calendar 1.0//EN
BEGIN:VEVENT
METHOD:PUBLISH
UID:43640@regionalniportaly.cz
DTSTAMP:20260422T005045Z
DTSTART;VALUE=DATE:20240907
DTEND;VALUE=DATE:20240908
SUMMARY:JÓGOVÝ FESTIVAL
DESCRIPTION:Srdečně Vás zveme na druhý ročník&nbsp\; Jógového festivalu\,&nbsp\;který se uskuteční opět v krásném klidném venkovském prostředí divadla Hogo Fogo v Drážkově.Na co se můžete letos těšit?&nbsp\;SLOW FLOW YOGA s Katkou BílkovouJemná ranní Vinyasa\, která vás rozhýbe a naladí na celý jógový den. Pozdrav slunci a první ásany v rytmu dechu\, které rozhýbeme v lehké flow plynutí. Budování síly a flexibility a naše snažení zakončíme šávásanou. Hudba namíchaná přímo na tuto společnou lekci na kterou se moc těším. Katka&nbsp\;JÓGA PRO VYROVNANOST A HARMONII s Martinem WagenknechtemTo\, co by mělo spojovat různá pojetí jógové praxe je\, jaký mají na člověka vliv. Po praxi jógy bychom se měli cítit uvolnění\, vyrovnaní a harmoničtí se schopností nadhledu a možností vidět sama sebe z méně obvyklé perspektivy. Přesně to bude náš cíl. Na cestě k němu budeme postupovat od hrubého k jemnému - od tělesných pozic\, přes dech až k relaxaci a koncentraci. Podle hesla: "méně je více" nebo ještě lépe: "Méně úsilí\, více pozornosti."&nbsp\; MartinVITÁLNÍ JÓGA se Simonou Josefovoujógové sekvence zaměřené na stimulaci a podporu endokrinního\, lymfatického systému a meatabolismu\, správné fungování hlubokého stabilizačního systému.Součástí lekce bude pránájáma-dechová cvičení\, relaxace a závěrečná meditace.Tak\, abychom podpořili\, proudění energie\, imunitu a vitalitu.Lekce bude vedena ve stylu jemné vinjásy.Na všechny se těším!SimonaJÓGOVĚ TANEČNÍ FLOW&nbsp\;s Markétou FaustovouPlynoucí lekce s taneční esencí\, u které si budete připadat tak trochu jako na tanečním parketu\, na jevišti nebo prostě u sebe doma v obýváku. Užijeme si plynulé jógové sekvence s uvolňující letní vibrací. Vydáme se i do prostoru. Zjistíte\, jak se dá propojit jóga a tanec. Protože proč? Protože jógu i tanec milujeme. MarkétaKLÍČE K HARMONII TĚLA I DUŠE PODLE TRADIČNÍ ČÍNSKÉ MEDICÍNYNa přednášce&nbsp\;se dozvíte\, jak každé roční období ovlivňuje naše tělo&nbsp\;i&nbsp\;emoce&nbsp\;a jak můžeme pomocí správné stravy\, životního stylu a péče dosáhnout&nbsp\;harmonického bytí.&nbsp\;Dozvíte se\,&nbsp\;jak&nbsp\;účinně&nbsp\;předcházet sezónním výzvám\, jako jsou alergie\, snížená imunita&nbsp\;nebo&nbsp\;respirační problémy.&nbsp\;Budete vědět\, co dělat\, abyste dosáhli&nbsp\;harmonického&nbsp\;žití&nbsp\;a pevného zdraví po celý rok.MAAR a ŠIMON BILINA - Kirtan\, živá hudba a závěrečná meditaceDOPROVODNÝ PROGRAM:malování hennouprodejní stánkyvegetariánské jídlo i kavárenské dobroty&nbsp\;
LOCATION:Svatý Jan
END:VEVENT
END:VCALENDAR