BEGIN:VCALENDAR
VERSION:2.0
CALSCALE:GREGORIAN
PRODID:-//MyApp//Calendar 1.0//EN
BEGIN:VEVENT
METHOD:PUBLISH
UID:43561@regionalniportaly.cz
DTSTAMP:20260422T073855Z
DTSTART;VALUE=DATE:20240923
DTEND;VALUE=DATE:20240924
SUMMARY:Ludovico Einaudi Music | Tábor
DESCRIPTION:Nenechte si ujít nezapomenutelný večer krásné hudby\, kde zazní melodie jednoho z nejlepších pianistů a skladatelů na světe\, Ludovica Einaudiho v podání geniálního českého klavíristy Jana Schulmeistera.Einaudi je známý svými jednoduchými\, ale strašidelně krásnými minimalistickými díly pro klavír a ohromující filmovou hudbou.Za téměř třicet let své činnosti vydal řadu alb\, která se dostala na přední příčky poslechovosti\, vyprodává nejprestižnější koncertní sály po celém světě a jeho hudba zazněla v mnoha slavných filmech (Nedotknutelní\, Doktor Živago\, To je Anglie\, Nomadland a další).Jan Schulmeister patří mezi nejmladší členy PETROF Art Family. Hře na klavír se věnuje od svých pěti let. Do těchto dní má na svém kontě přes 30 vítězství a mimořádných ocenění z domácích i mezinárodních soutěží napříč Evropou.. Přijal též pozvání na účinkování v rámci významných hudebních festivalů\, například Pražské jaro a Smetanova Litomyšl. Koncertuje nejen na českých\, ale i zahraničních pódiích (Švýcarsko\, Velká Británie\, Itálie\, Rakousko\, Severní Makedonie)&nbsp\;„Celé představení si můžete naplno vychutnat\, díky korunnímu klenotu mezi koncertními klavíry C. Bechstein D 282.Tímto děkujeme našemu partnerovi C. Bechstein -&nbsp\;www.bechstein.com&nbsp\;za podporu akce.“
LOCATION:Tábor
END:VEVENT
END:VCALENDAR