BEGIN:VCALENDAR
VERSION:2.0
CALSCALE:GREGORIAN
PRODID:-//MyApp//Calendar 1.0//EN
BEGIN:VEVENT
METHOD:PUBLISH
UID:42978@regionalniportaly.cz
DTSTAMP:20260422T025409Z
DTSTART;VALUE=DATE:20241130
DTEND;VALUE=DATE:20241201
SUMMARY:Retroples 2024
DESCRIPTION:Již 16. ročník Sezimoústeckého RetroplesuHraje kapela Big Papa\, DJ a moderátor Luboš Faic\, s tanečním vystoupením se předvede jedna z formací CODA\,&nbsp\;připraven je fotokoutek i tombola. Samozřejme také hlavním programem bude výběr nejlepších retromodelů - Retromuž\, Retrožena\, Retropár\, Retrobanda.Předprodej vstupenek bude spuštěn od 1.6. přes www.smsticket.cz&nbsp\;www.bigpapa.czwww.hotelmas.czwww.richart.cz&nbsp\;
LOCATION:Sezimovo Ústí
END:VEVENT
END:VCALENDAR