BEGIN:VCALENDAR
VERSION:2.0
CALSCALE:GREGORIAN
PRODID:-//MyApp//Calendar 1.0//EN
BEGIN:VEVENT
METHOD:PUBLISH
UID:42848@regionalniportaly.cz
DTSTAMP:20260422T005055Z
DTSTART;VALUE=DATE:20240713
DTEND;VALUE=DATE:20240714
SUMMARY:Atletika Jinak
DESCRIPTION:Zveme Vás na benefiční akci Atletika Jinak s Divokými husami.&nbsp\;Program akce:&nbsp\;koncert od skupiny Peshata – Zoo Punk Tábor!&nbsp\;live vystoupení kapely Flying Parties&nbsp\;Program pro naše malé sportovce – Jízda na lehokole\, malování na obličej a mnohem víc!Atletika pro handicapované – Ukázka atletiky pro všechny! Přijďte si vyzkoušet různé disciplíny a podpořte naše skvělé sportovce!Lahodné občerstvení pro všechny a skvělé pivo!Zakoupením vstupenky podpoříte handicapované atlety ze Spolku Elite handicap sport.&nbsp\;Výtěžek ze vstupného bude díky spolupráci s nadací Divoké husy zdvojnásoben.&nbsp\;
LOCATION:Slapy
END:VEVENT
END:VCALENDAR