BEGIN:VCALENDAR
VERSION:2.0
CALSCALE:GREGORIAN
PRODID:-//MyApp//Calendar 1.0//EN
BEGIN:VEVENT
METHOD:PUBLISH
UID:42384@regionalniportaly.cz
DTSTAMP:20260422T004916Z
DTSTART;VALUE=DATE:20240705
DTEND;VALUE=DATE:20240706
SUMMARY:Beerfest Nechvalice 2024
DESCRIPTION:
LOCATION:Nechvalice
END:VEVENT
END:VCALENDAR