BEGIN:VCALENDAR
VERSION:2.0
CALSCALE:GREGORIAN
PRODID:-//MyApp//Calendar 1.0//EN
BEGIN:VEVENT
METHOD:PUBLISH
UID:42349@regionalniportaly.cz
DTSTAMP:20260422T025323Z
DTSTART;VALUE=DATE:20241018
DTEND;VALUE=DATE:20241020
SUMMARY:Retreat Ženy v byznysu 18.-20.10.
DESCRIPTION:Pracovně-relaxační víkendTento víkend se staráme my o vás. Vy si jen nechte volnou hlavu na nápady pro svůj byznys a využijte sílu pracovní skupiny.Uprostřed lesů na Vysočině nechte vyklíčit nové myšlenkyBudete mít možnost probrat své podnikání (současné nebo budoucí) s dalšími ženami z byznysu. Na procházkách lesem\, u kávy či při řízeném workshopu. Nemusíte přemýšlet nad tím co vařit\, protože jsme pro vás připravili úžasné jídlo z místních surovin po celý den. Prostě péče se vším všudy. Ráno začnete protažením celého těla\, pokračujete&nbsp\; plynule&nbsp\; výbornou snídaní\, abyste byly nachystané věnovat se do hloubky vašemu projektu.Budete se hýbat\, přemýšlet i odpočívat. V malé pracovní skupině vyřešíte\, co vás momentálně nejvíce pálí. Odjedete nabité\, svěží a s plánem konkrétních kroků v kapse.&nbsp\;Cena early-birds: 8 820 Kč8. září potom: 9 800 KčCo všechno získáte?ubytování v samostatném pokoji na 2 noci uprostřed lesůvynikající snídaně\, obědy a večeře z lokálních surovin360 minut facilitace pracovní skupinynový pohled na váš byznys a na vaše talentymarketingové konzultacevýrobu vlastního aroma roll-onuranní lekce jógymini-kurz facial jógyuvítací drinkkvalitní networking&nbsp\;podporu skupiny a nová přátelství12 žen se stejným cílem a různými životními a byznysovými zkušenostmitvůrčí zastavení a nadhled
LOCATION:Lidmaň
END:VEVENT
END:VCALENDAR