BEGIN:VCALENDAR
VERSION:2.0
CALSCALE:GREGORIAN
PRODID:-//MyApp//Calendar 1.0//EN
BEGIN:VEVENT
METHOD:PUBLISH
UID:42199@regionalniportaly.cz
DTSTAMP:20260422T003749Z
DTSTART;VALUE=DATE:20240607
DTEND;VALUE=DATE:20240608
SUMMARY:Divadlo  Sestra v Akci
DESCRIPTION:Nenechte si ujít jedno z nejlepších divadel jaké jste měli možnost od spolku Béčko zažít.Přijměte pozvání na další premiéru&nbsp\;naší vtipné komedie\, která vás rozesměje do slz!
LOCATION:Červený Újezd
END:VEVENT
END:VCALENDAR