BEGIN:VCALENDAR
VERSION:2.0
CALSCALE:GREGORIAN
PRODID:-//MyApp//Calendar 1.0//EN
BEGIN:VEVENT
METHOD:PUBLISH
UID:42135@regionalniportaly.cz
DTSTAMP:20260422T025230Z
DTSTART;VALUE=DATE:20241012
DTEND;VALUE=DATE:20241013
SUMMARY:TRANSFORMERS SHOW!
DESCRIPTION:Sezimovo Ústí a okolí\, tuto sobotu děti rozhodně nebudou chtít strávit u televize.Horká novinka&nbsp\;- SHOW GIGANTICKÝCH ROBOTŮ&nbsp\;ve Vašem městě!&nbsp\;Jediné turné v&nbsp\;ČR\, které když propásnete\, bude nenávratně pryč.&nbsp\;
LOCATION:Sezimovo Ústí
END:VEVENT
END:VCALENDAR