BEGIN:VCALENDAR
VERSION:2.0
CALSCALE:GREGORIAN
PRODID:-//MyApp//Calendar 1.0//EN
BEGIN:VEVENT
METHOD:PUBLISH
UID:42107@regionalniportaly.cz
DTSTAMP:20260422T024221Z
DTSTART;VALUE=DATE:20240525
DTEND;VALUE=DATE:20240526
SUMMARY:DAVID PABIŠKA v Jankově
DESCRIPTION:Talk-show super-osobnosti motorkářského světa DAVIDA PABIŠKY. Do nitra tohoto bajkra bude moci nahlédnout&nbsp\;Dejvovým okénkem\, které se Vám na chvilku otevře&nbsp\;tentokrát&nbsp\;ve středočeském Jankově u Votic..Těšit se můžete na&nbsp\;vyprávění nějen o 15x dojetém Dakaru\, ale i motorkách\, o životě\, o fair-play a o dalších věcech\, na které se zeptáte.Pro sběratele selfies se jistě podaří domluvit společná fotka s Davidem či jeho rally speciálem\, pro sběratele podpisů budou k dispozici podpisové kartičky/Davidovi fotky.Veškerý výtěžek z této akce půjde na podporu dalšího startu Davida na Rally Dakar.
LOCATION:Jankov
END:VEVENT
END:VCALENDAR