BEGIN:VCALENDAR
VERSION:2.0
CALSCALE:GREGORIAN
PRODID:-//MyApp//Calendar 1.0//EN
BEGIN:VEVENT
METHOD:PUBLISH
UID:42070@regionalniportaly.cz
DTSTAMP:20260421T230742Z
DTSTART;VALUE=DATE:20240622
DTEND;VALUE=DATE:20240623
SUMMARY:Jiřina Bohdalová - Můj život je ... Báječný film - talk show
DESCRIPTION:Jiřina BohdalováNenechte si ujít setkání&nbsp\;s&nbsp\;žijící hereckou legendu\, &nbsp\;první dámou&nbsp\;českého filmu i&nbsp\;divadla\, která letos&nbsp\;oslaví úžasné devadesátétřetí narozeniny.&nbsp\;Talk show\, kde moderátor Tomáš Kubík s paní Jiřinkou proberou všechny&nbsp\; &nbsp\; &nbsp\; &nbsp\; &nbsp\; &nbsp\; \,\, Veselé historky z natáčení\,\, a nejen to :)
LOCATION:Heřmaničky
END:VEVENT
END:VCALENDAR