BEGIN:VCALENDAR
VERSION:2.0
CALSCALE:GREGORIAN
PRODID:-//MyApp//Calendar 1.0//EN
BEGIN:VEVENT
METHOD:PUBLISH
UID:41832@regionalniportaly.cz
DTSTAMP:20260422T005133Z
DTSTART;VALUE=DATE:20240906
DTEND;VALUE=DATE:20240907
SUMMARY:Retro Dance Párty
DESCRIPTION:RETRO DANCE PÁRTY je šestihodinový disco ples těch největších hitů osmdesátých a devadesátých let s přesahem na léta sedmdesátá až po milénium. Zkrátka od Abby přes Modern Talking až po Rihannu.Přijďte klidně v džínech\, ale nejlépe retro! Nejlepší retro kostýmy budou odměněny v naší velké soutěži.Těšit se můžete na skvělý 30.000 W zvuk\, retro fotokoutek\, zcela nový rozsáhlejší světelný park a hity našeho mládí v originálních verzích. Doba je zlá\, tak tancujme\, dokud můžeme!Na místě budou k dispozici vstupenky v jednotné ceně 390 Kč bez garance sezení.&nbsp\; &nbsp\;&nbsp\;
LOCATION:Tábor
END:VEVENT
END:VCALENDAR