BEGIN:VCALENDAR
VERSION:2.0
CALSCALE:GREGORIAN
PRODID:-//MyApp//Calendar 1.0//EN
BEGIN:VEVENT
METHOD:PUBLISH
UID:41733@regionalniportaly.cz
DTSTAMP:20260422T023905Z
DTSTART;VALUE=DATE:20240522
DTEND;VALUE=DATE:20240523
SUMMARY:Branky\, body\, vzpomínky - Honza Koller\,  Petr Vichnar
DESCRIPTION:Nic není nemožné\, a&nbsp\;že&nbsp\;sny si může plnit každý z&nbsp\;nás.&nbsp\;K dosažení je však zapotřebí patřičné nadšení\, úsilí\, vytrvalost a&nbsp\;pracovitost.&nbsp\;Úspěch nikdy nepřijde sám od&nbsp\;sebe.&nbsp\;Musíte pro&nbsp\;něj také něco obětovat.&nbsp\;A&nbsp\;to platí v&nbsp\;jakémkoliv odvětví.&nbsp\;Součástí show budou&nbsp\;obrazové a&nbsp\;video sestřihy z&nbsp\;důležitých okamžiků Jana Kollera\, které vtipně a&nbsp\;s&nbsp\;doplněním svých zážitků moderuje legendární sportovní komentátor Petr Vichnar.Budete vtaženi do&nbsp\;společné komunikace\, pokládat dotazy\, které vždy budou mít svojí odpověď.&nbsp\;Program je zakončen autogramiádou se&nbsp\;všemi protagonisty.
LOCATION:Černovice
END:VEVENT
END:VCALENDAR