BEGIN:VCALENDAR
VERSION:2.0
CALSCALE:GREGORIAN
PRODID:-//MyApp//Calendar 1.0//EN
BEGIN:VEVENT
METHOD:PUBLISH
UID:40576@regionalniportaly.cz
DTSTAMP:20260422T020556Z
DTSTART;VALUE=DATE:20240607
DTEND;VALUE=DATE:20240608
SUMMARY:MIMI Pivky
DESCRIPTION:Přijďte na pivo na Kopeček!Těšit se na Vás bude 6 vybraných pivovarů vč. našeho místního piva Garage!Celým odpolednem a večerem provede kapela Flying Parties a nebude chybět ani dobré jídlo v podobě burgerů a grilovaných mas!Stan s nealkem a drinky bude na místě také.
LOCATION:Tábor
END:VEVENT
END:VCALENDAR