BEGIN:VCALENDAR
VERSION:2.0
CALSCALE:GREGORIAN
PRODID:-//MyApp//Calendar 1.0//EN
BEGIN:VEVENT
METHOD:PUBLISH
UID:39773@regionalniportaly.cz
DTSTAMP:20260422T022903Z
DTSTART;VALUE=DATE:20240720
DTEND;VALUE=DATE:20240721
SUMMARY:Ondřej Havelka a Melody Makers
DESCRIPTION:Ondřej Havelka a jeho Melody MakersO LÁSCE A JINÝCH SWINGOVÝCH BĚSECHVšak to znáte: láska má mnoho podob a stejně tak i písně o ní. Odjakživa se zpívá o lásce šťastné i nešťastné\, naplněné i zhrzené\, roztoužené i zklamané\, sladké i hořké\, o lásce ke všemu možnému – k ženě\, muži\, vlasti či jazzu. Ondřej Havelka se svými Melody Makers připravil z lásky k Vám okouzlující kolekci jazzových a swingových kusů\, v nichž vášeň zazní v prudkých fičácích a něha v melancholických kantilénách. To vše v koncertní show O LÁSCE A JINÝCH SWINGOVÝCH BĚSECH.
LOCATION:Mladá Vožice
END:VEVENT
END:VCALENDAR