BEGIN:VCALENDAR
VERSION:2.0
CALSCALE:GREGORIAN
PRODID:-//MyApp//Calendar 1.0//EN
BEGIN:VEVENT
METHOD:PUBLISH
UID:39754@regionalniportaly.cz
DTSTAMP:20260421T221927Z
DTSTART;VALUE=DATE:20240322
DTEND;VALUE=DATE:20240323
SUMMARY:Pavel Čadek - KAFE TOUR | Tábor
DESCRIPTION:Pavel Čadek je písničkář doprovázející se na violoncello. Dostal se do povědomí posluchačů jako předskokan Pokáče\, Xindla X\, Petra Bende\, Báry Polákové\, Jelena a dalších... Mezi jeho nejznámější písně patří písně 30 (duet s Pokáčem)\, Prsa (duet s Michalem Horákem)\, Nestíhám\, nebo Utekla mi s ajťákem. Na koncertech střídá humorné písně s vážnými či sentimentálními.V říjnu 2023 vydal své třetí album Stepní vlk\, které bylo nominováno na Anděla. Nyní vyjíždí na speciální akustické komorní turné po kavárnách. Bude zde hrát pro velmi omezený počet lidí písničky bez ozvučení a playlist bude vznikat přímo na místě podle nálady publika.
LOCATION:Tábor
END:VEVENT
END:VCALENDAR