BEGIN:VCALENDAR
VERSION:2.0
CALSCALE:GREGORIAN
PRODID:-//MyApp//Calendar 1.0//EN
BEGIN:VEVENT
METHOD:PUBLISH
UID:39602@regionalniportaly.cz
DTSTAMP:20260422T024036Z
DTSTART;VALUE=DATE:20240724
DTEND;VALUE=DATE:20240725
SUMMARY:Koncert filmové hudby | Sezimovo Ústí Letní kino
DESCRIPTION:Pražský filmový orchestr&nbsp\;pod taktovkou dirigenta Jiřího Korynty přináší velkolepý koncert\, který představí&nbsp\;v&nbsp\;nezapomenutelné atmosféře prostor sezimáckého&nbsp\;letního kina&nbsp\;při západu slunce.Diváci v Sezimově Ústí&nbsp\;se mohou&nbsp\;těšit na&nbsp\;skladby z filmů&nbsp\;Star Wars\, Pán Prstenů\, Games of Thrones\, Harry Potter\, Piráti z&nbsp\;Karibiku&nbsp\;a další známé melodie stříbrného plátna.Koncert bude bohatý na fantastickou filmovou hudbu od světově známých hudebních skladatelů\, jakými jsou např.&nbsp\;John Williams\,&nbsp\;Hans Zimmer\,&nbsp\;Howard Shore&nbsp\;nebo&nbsp\;James Horner.&nbsp\;
LOCATION:Sezimovo Ústí
END:VEVENT
END:VCALENDAR