BEGIN:VCALENDAR
VERSION:2.0
CALSCALE:GREGORIAN
PRODID:-//MyApp//Calendar 1.0//EN
BEGIN:VEVENT
METHOD:PUBLISH
UID:39365@regionalniportaly.cz
DTSTAMP:20260421T224114Z
DTSTART;VALUE=DATE:20240319
DTEND;VALUE=DATE:20240320
SUMMARY:Talkshow - Nemáš pravdu drahá/ý
DESCRIPTION:Nemáš pravdu drahá/ý\, aneb o světě šoubyznysu\, vztazích mezi ženami a muži i o tom všem ostatním…Herečtí kolegové Veronika Žilková a Bořek Slezáček se rozhodli vyprávět příběhy ze svého profesního i osobního života\, zážitky ze zákulisí divadel\, filmu a televizních štábů. A že jich je. Proberou i své osobní výhry a prohry\, samozřejmě s&nbsp\;nadhledem\, humorem a sebeironií. To vše v&nbsp\;interaktivní talk show\, ve které se i vy můžete zeptat na cokoliv chcete.&nbsp\;datum: 19.3.2024čas: 19&nbsp\;hodinmísto: sokolovna Černovicegoo.gl/maps/SUSmyumy5RcUPHDLA&nbsp\;Předprodej probíhá:- zde na portálu SMSTICKET.CZ- v Černovicích v cukrárně U Koblížků -&nbsp\;goo.gl/maps/WUn6xCUdMNirP6uM7- v Černovicích v městské knihovně v budově měúPředprodej končí 18.11.&nbsp\;nebo při naplnění kapacity sálu.&nbsp\;Cena vstupenky na místě je 280&nbsp\;kčSál bude otevřen od 18&nbsp\;hodin. Občerstvení zajistěno.&nbsp\;Pořadatel:Město Černovice\, IČO: 00248037. Změna programu vyhrazena.
LOCATION:Černovice
END:VEVENT
END:VCALENDAR