BEGIN:VCALENDAR
VERSION:2.0
CALSCALE:GREGORIAN
PRODID:-//MyApp//Calendar 1.0//EN
BEGIN:VEVENT
METHOD:PUBLISH
UID:39122@regionalniportaly.cz
DTSTAMP:20260422T003759Z
DTSTART;VALUE=DATE:20240525
DTEND;VALUE=DATE:20240526
SUMMARY:Už ti nikdy nenaletím v Táboře
DESCRIPTION:Populární slovenská komedie UŽ TI NIKDY NENALETÍM s Marošem Kramárem míří do Tábora!Když se objeví váš manžel\, kterého jste neviděli přes 10 let\, u dveří vašeho bytu\, nečekejte žádnou nudu. Zejména pokud jste si už na nepřítomnost věčného seladona zvykli a ve Vašem bytě má už své bačkůrky a župan nový muž. Uhlazený\, suchopárný politik Viktor.Pokud myslíte\, že všechno tady je předvídatelné\, přijďte se přesvědčit\, že se můžete i mýlit. ...že život je plný překvapení ukáže i tato skvělá komedie španělského autora.&nbsp\;Hrajú : Maroš Kramár\, Marko Igonda\, Henrieta Mičkovicová / v alternácii Lenka Barilíková SpišákováRéžia : Michal Spišák&nbsp\;Autor : Santiago MoncadaPreklad : Roman BratDivadlo MÚZA TEATRO
LOCATION:Tábor
END:VEVENT
END:VCALENDAR