BEGIN:VCALENDAR
VERSION:2.0
CALSCALE:GREGORIAN
PRODID:-//MyApp//Calendar 1.0//EN
BEGIN:VEVENT
METHOD:PUBLISH
UID:38522@regionalniportaly.cz
DTSTAMP:20260422T003249Z
DTSTART;VALUE=DATE:20240609
DTEND;VALUE=DATE:20240610
SUMMARY:MIMIFest 2. ročník
DESCRIPTION:Přijďte se bavit na druhý ročník rodinného festivalu MIMIFest!Čeká vás program po celé odpoledne\, bohatý doprovodný program\,tombola\, dobré jídlo\, pití\, zmrzlina! Hlavní hvězdou letošního ročníku Karol a Kvído.Zábava pro nejmenší\, teenagery i rodiče!
LOCATION:Tábor
END:VEVENT
END:VCALENDAR