BEGIN:VCALENDAR
VERSION:2.0
CALSCALE:GREGORIAN
PRODID:-//MyApp//Calendar 1.0//EN
BEGIN:VEVENT
METHOD:PUBLISH
UID:37671@regionalniportaly.cz
DTSTAMP:20260422T004936Z
DTSTART;VALUE=DATE:20240705
DTEND;VALUE=DATE:20240706
SUMMARY:BeerFest Nechvalice 2024
DESCRIPTION:Připravte se na nezapomenutelný zážitek plný piva\, hudby a skvělé nálady! Letos to bude už 3. ročník\, a máme pro vás připravený super line-up!Kapely na Pódiu:Maniac\,&nbsp\;Zakázaný ovoce\,&nbsp\;Mr. Loco a další 3 zveřejníme později.Co Vás Čeká:Široký výběr piv od regionalnich minipivovarů. Hudební festival s živými kapelami. Pohodová atmosféra s originálními stánky.Předprodej Vstupenek: Speciální Vánoční předprodej v limitovaném počtu 60ks!! Cena speciální vstupenky je pouhých 270 Kč.Předprodej běží až do 24.12.2023. Vstupenky k dostání online.Připravte se na festival\, který spojuje skvělé pivo\, fantastickou hudbu a nezapomenutelnou atmosféru!Označte si datum\, kupte si vstupenky a přijďte slavit s námi na BeerFest Nechvalice 2024! &nbsp\;#BeerFestNechvalice #VánočníPředprodej #PivoAHudba
LOCATION:Nechvalice
END:VEVENT
END:VCALENDAR