BEGIN:VCALENDAR
VERSION:2.0
CALSCALE:GREGORIAN
PRODID:-//MyApp//Calendar 1.0//EN
BEGIN:VEVENT
METHOD:PUBLISH
UID:37119@regionalniportaly.cz
DTSTAMP:20260421T205903Z
DTSTART;VALUE=DATE:20231217
DTEND;VALUE=DATE:20231218
SUMMARY:Adventní benefiční koncert Blue Orchestra
DESCRIPTION:Je nám ctí a potěšením!Přijměte naše pozvání na adventní koncert Big Band BLUE ORCHESTRA pro Hospic Dobrého Pastýře v čerčanském kině v neděli 17/12/2023 od 18:00!Blue Orchestra je důkazem\, že big band se nemusí bát opouštět zaběhnuté vody hudebních žánrů a může do svého repertoáru zařadit současné taneční skladby.Bude to velké! A bude to krásné!Vstupné za 290 Kč pouze do 3/12\, pro opozdilce od 4/12 do 15/12 již za 390 Kč a pro ty\, co se rozhodují až na poslední chvíli\, za 490 Kč. Neváhejte tedy a rezervujte si svá místa ještě dnes!
LOCATION:Čerčany
END:VEVENT
END:VCALENDAR