BEGIN:VCALENDAR
VERSION:2.0
CALSCALE:GREGORIAN
PRODID:-//MyApp//Calendar 1.0//EN
BEGIN:VEVENT
METHOD:PUBLISH
UID:36758@regionalniportaly.cz
DTSTAMP:20260422T022841Z
DTSTART;VALUE=DATE:20240513
DTEND;VALUE=DATE:20240514
SUMMARY:Spiritual Kvartet | Tábor
DESCRIPTION:Spiritual Kvartet míří do Tábora.Spirituál kvartet&nbsp\;je skupina přímo navazující na legendární československou folkovou kapelu Spirituál kvintet. Kontinuitu s&nbsp\;tímto souborem\, významně ovlivňujícím domácí hudební scénu více než šedesát let\, zaručuje nejen návrat k&nbsp\;původnímu historickému názvu\, ale především účast&nbsp\;Jiřího&nbsp\;Holoubka&nbsp\;a Veroniky Součkové\, dlouholetých členů Spirituál kvintetu. Ti své síly spojili se dvěma dalšími vynikajícími muzikanty. Zpěvákem\, skladatelem\, banjistou\, hráčem na steel kytaru a kontrabas Zbyňkem Burešem\, a kytaristou\, zpěvákem\, majitelem podmanivého basu Janem Jandou.Spirituál kvartet s&nbsp\;pokorou\, úctou a vděkem staví na odkazu svých předchůdců\, který ale zcela samozřejmě rozvíjí dál vlastním zvukem i podáním nejen skladeb prověřených desetiletími\, ale i novým autorským repertoárem.
LOCATION:Tábor
END:VEVENT
END:VCALENDAR