BEGIN:VCALENDAR
VERSION:2.0
CALSCALE:GREGORIAN
PRODID:-//MyApp//Calendar 1.0//EN
BEGIN:VEVENT
METHOD:PUBLISH
UID:36016@regionalniportaly.cz
DTSTAMP:20260421T204635Z
DTSTART;VALUE=DATE:20240212
DTEND;VALUE=DATE:20240213
SUMMARY:Láska z mládí | Tábor
DESCRIPTION:Roman Zach\, Lucie Žáčková\, Zdeněk Dušek&nbsp\;a dalši&nbsp\;v populární komedii LÁSKA Z MLÁDÍ!&nbsp\;Antoinovi se v životě dařilo. Vlastní pílí se vypracoval k&nbsp\;ohromnému&nbsp\;jmění\,&nbsp\;žije s aristokratkou Diane&nbsp\;z rodu Bourbonů. Tu si vezme za ženu\, jen co pro ni koupí zámek kousek na jih od Paříže. Pak se ovšem zjeví&nbsp\;Maryse\,&nbsp\;Antoinova&nbsp\;dávná láska z mládí\,&nbsp\;láska\, kterou si v mládí vzal za zákonnou manželku&nbsp\;– a pak na to zapomněl. Vyhlídka na svatbu i život na zámku se rázem komplikuje. Nezbývá než na&nbsp\;Maryse&nbsp\;vymyslet lest.&nbsp\;Výsledkem je inteligentní komedie plná absurdních situací a humorných dialogů.&nbsp\;&nbsp\;HrajíAntoine:&nbsp\;Roman ZachDiane:&nbsp\;Lucie ŽáčkováDiane:&nbsp\;Nikol KouklováMaryse:&nbsp\;Diana TonikováChuang–Mu:&nbsp\;Ha Thanh ŠpetlíkováGilles:&nbsp\;Prokop ZachGilles:&nbsp\;Karel Heřmánek ml.
LOCATION:Tábor
END:VEVENT
END:VCALENDAR