BEGIN:VCALENDAR
VERSION:2.0
CALSCALE:GREGORIAN
PRODID:-//MyApp//Calendar 1.0//EN
BEGIN:VEVENT
METHOD:PUBLISH
UID:35853@regionalniportaly.cz
DTSTAMP:20260421T175008Z
DTSTART;VALUE=DATE:20240108
DTEND;VALUE=DATE:20240109
SUMMARY:BLBEC K VEČEŘI | Tábor
DESCRIPTION:Hvězdné obsazení&nbsp\;v Táboře!&nbsp\;Václav&nbsp\;Vydra\, Rudolf&nbsp\;Hrušinský&nbsp\;ml.\, Josef&nbsp\;Carda&nbsp\;a dalši&nbsp\;v bláznivé francouzské komedii BLBEC K VEČEŘI!&nbsp\;V této bláznivé francouzské komedii platí\, že kdo jinému jámu kopá\, sám do ní padá a kdo se směje naposled\, ten se směje nejlíp. Při srážce s blbcem se může rozsvítit i tzv. inteligentovi. Přesto si raději dvakrát rozmyslete\, než někoho prohlásíte za blbce. Může se vám stát\, tak jako v této bláznivé komedii\, že se na váš účet bude bavit někdo jiný.Režie: Jiří MenzelHrají: Václav Vydra\, Rudolf Hrušínský\, Jana Švandová / Vlasta Žehrová\, Josef Carda\, Jana Boušková / Hana Heřmánková\, Petr Pospíchal / Zdeněk Žák
LOCATION:Tábor
END:VEVENT
END:VCALENDAR