BEGIN:VCALENDAR
VERSION:2.0
CALSCALE:GREGORIAN
PRODID:-//MyApp//Calendar 1.0//EN
BEGIN:VEVENT
METHOD:PUBLISH
UID:35801@regionalniportaly.cz
DTSTAMP:20260421T192058Z
DTSTART;VALUE=DATE:20231129
DTEND;VALUE=DATE:20231130
SUMMARY:Jiří Kolbaba - Keňa\, Tanzánie\, Zanzibar
DESCRIPTION:Vydejme se společně na objevnou cestu do oblasti\, která od nepaměti lákala největší dobrodruhy planety. Setkáme se s místními domorodci\, ale hlavně se zástupci přitažlivé i obávané fauny. Spatřit zblízka exotické africké šelmy patří pro mnohé ke splněným snům.&nbsp\;datum: 29.11.2023čas: 18&nbsp\;hodin - bar otevřen od 17 hodinmísto: sokolovna Černovicegoo.gl/maps/SUSmyumy5RcUPHDLA&nbsp\;Předprodej probíhá:- zde na portálu SMSTICKET.CZ- v Černovicích v cukrárně U Koblížků -&nbsp\;goo.gl/maps/WUn6xCUdMNirP6uM7- v Černovicích v městské knihovně v budově měúPředprodej končí 28.11.&nbsp\;nebo při naplnění kapacity sálu.&nbsp\;Cena vstupenky na místě je 300&nbsp\;kčSál bude otevřen od 17&nbsp\;hodin. Občerstvení zajistěno.&nbsp\;Pořadatel:Město Černovice\, IČO: 00248037. Změna programu vyhrazena.
LOCATION:Černovice
END:VEVENT
END:VCALENDAR