BEGIN:VCALENDAR
VERSION:2.0
CALSCALE:GREGORIAN
PRODID:-//MyApp//Calendar 1.0//EN
BEGIN:VEVENT
METHOD:PUBLISH
UID:35775@regionalniportaly.cz
DTSTAMP:20260421T205801Z
DTSTART;VALUE=DATE:20231104
DTEND;VALUE=DATE:20231105
SUMMARY:Narozeninový koncert KLUBOOFKA TV
DESCRIPTION:Léta běží\, vážení\, Kluboofce jsou TŘI. Slavíme narozeniny!Být Kluboofka fyzickou osobou\, jde letos do školky. Prvně si s&nbsp\;maminkou přinese do školky bačkůrky a ručníček\, seznámí se s&nbsp\;pančitelkou a pak vzhůru do první fáze socializace!Léta běží\, vážení\, Kluboofce jsou TŘI. Slavíme narozeniny!Být Kluboofka fyzickou osobou\, jde letos do školky. Prvně si s&nbsp\;maminkou přinese do školky bačkůrky a ručníček\, seznámí se s&nbsp\;pančitelkou a pak vzhůru do první fáze socializace!Za tři roky existence se z&nbsp\;projektu\, majícího cíl především pomoci kapelám v&nbsp\;nelehkých časech pandemie\, vyrostla promo agentura se zdravým sebevědomím a zápalem pro věc. A jelikož se narozeniny musí pořádně oslavit\, i Kluboofka pro vás nachystala pořádný narozeninový mejdan.Pořádná party se samo sebou neobejde bez muziky\, 4. listopadu v&nbsp\;Čerčanské Besedě proto zahrají k&nbsp\;poslechu a k&nbsp\;tanci (a nebude se jednat o harmonikáře a dirigenta):Naši vážení a milí\, neváhejte a doražte! Bude to jízda\, kdy brzdy jsou sprosté slovo!
LOCATION:Čerčany
END:VEVENT
END:VCALENDAR