BEGIN:VCALENDAR
VERSION:2.0
CALSCALE:GREGORIAN
PRODID:-//MyApp//Calendar 1.0//EN
BEGIN:VEVENT
METHOD:PUBLISH
UID:34754@regionalniportaly.cz
DTSTAMP:20260421T192119Z
DTSTART;VALUE=DATE:20231117
DTEND;VALUE=DATE:20231118
SUMMARY:Maturitní ples 4P SPŠ Tábor
DESCRIPTION:4P vás zve na maturitní ples “Prisoners\,\, kde společně pozatýkáme všechny zločinceModerátor: Václav VotavaKapela: MIDI&nbsp\;Třídní učitelka: Mgr. Markéta ŠtěpkováŘeditel školy: Ing. Marcel GauseMATURANTI:&nbsp\;Kryštof ČapekAdam DufekMatyáš DvořákKateřina FárováNikola FilipováMarkéta GlasserováDavid ChomoutDaniel JežekJakub KadlecTomáš KnotekBeáta KratochvílováVanesa KrmelováLinda LhotákováZlata MaškováPatrik MotyčákJakub MrázekVít NovákVojtěch Pejša&nbsp\;Adam RyplJakub SmetanaMatyáš StarýEliška StejskalováJan ŠetekJan ŠťastnýJaroslav VaňasViktorie Votrubová&nbsp\;Ondřej ZadražilDana ZelenkováPROSÍME VŠECHNY ÚČASTNÍKY PLESU\, ABY RESPEKTOVALI ZÁKAZ KONFET A VLASTNÍHO OBČERSTVENÍ V PROSTORECH HOTELU PALCÁT\, DĚKUJEME
LOCATION:Tábor
END:VEVENT
END:VCALENDAR