BEGIN:VCALENDAR
VERSION:2.0
CALSCALE:GREGORIAN
PRODID:-//MyApp//Calendar 1.0//EN
BEGIN:VEVENT
METHOD:PUBLISH
UID:34724@regionalniportaly.cz
DTSTAMP:20260421T221946Z
DTSTART;VALUE=DATE:20231126
DTEND;VALUE=DATE:20231127
SUMMARY:Dva nahatý chlapi v Táboře
DESCRIPTION:Bláznivá komedie kontroverzního francouzského autora\, která v současné době slaví v Paříži velké úspěchy.Seriozní advokát\, věrný manžel a otec dvou dětí\, se jednoho dne probudí nahý v posteli se svým kolegou z práce. Ani jeden netuší\, jak se do této situace dostali\, manželka jednoho z nich však vymyslí způsob\, jak zjistit pravdu. Ale ta je\, jak se nakonec ukáže opravdové pravdě hodně vzdálená.Hrají&nbsp\;Martin Zounar\, Martina Randová\, Martin Kraus\, Daniela ŠinkorováRežie&nbsp\;Antonín ProcházkaPřeklad&nbsp\;Jaromír JanečekKostýmy&nbsp\;Lenka PoláškováProdukce&nbsp\;JT PROMOTION s.r.o.
LOCATION:Tábor
END:VEVENT
END:VCALENDAR