BEGIN:VCALENDAR
VERSION:2.0
CALSCALE:GREGORIAN
PRODID:-//MyApp//Calendar 1.0//EN
BEGIN:VEVENT
METHOD:PUBLISH
UID:34704@regionalniportaly.cz
DTSTAMP:20260421T221938Z
DTSTART;VALUE=DATE:20230923
DTEND;VALUE=DATE:20230924
SUMMARY:PÁRTY PRO DĚTI / Ve stylu tlapkové patroly / TÁBOR
DESCRIPTION:Oblíbená dětská párty ve stylu Tlapkové patroly míří do Tábora!&nbsp\;Tento den bude patřit všem dětem!&nbsp\;Čeká vás nabitý program\, tematické dekorace\, hudba z pohádek\, malování na obličej a hned několik pohádkových postaviček\, které vaše děti milují&nbsp\;&nbsp\;a se kterými se budou moci i vyfotit.&nbsp\;Nejen\, že si zatančí s Tlapkovou patrolou v čele s Chasem\, Skye\, Marshallem &amp\; Rubblem&nbsp\;&nbsp\;Ale i si zazpívají z Kouzelnou Beruškou (LadyBug) a nebude chybět ani kocour Tom&nbsp\;&nbsp\;A těm nejhodnějším dá Mimoň i nějaké sladkosti.&nbsp\;PRO DĚTI:- Pohádkové dobrodružství a výzdoba- Diskotéka a tancování s postavičkami- Oblíbené pohádkové postavičky- Malování na obličej- Focení s maskotyPROGRAM: 15:00 Otevření prostoru\, 15:30&nbsp\;Focení s maskoty\, 16:00 Hlavní program\, 17:30 KonecDěti do 2 let&nbsp\; (tzv. do 24 měsíců)&nbsp\;zdarma bez vstupenky\, každý jiný návštěvník musí mít platnou vstupenku\, cena vstupenek je shodná pro děti i dospělé.Tým HappyKid!&nbsp\;
LOCATION:Tábor
END:VEVENT
END:VCALENDAR