BEGIN:VCALENDAR
VERSION:2.0
CALSCALE:GREGORIAN
PRODID:-//MyApp//Calendar 1.0//EN
BEGIN:VEVENT
METHOD:PUBLISH
UID:34703@regionalniportaly.cz
DTSTAMP:20260422T001612Z
DTSTART;VALUE=DATE:20230918
DTEND;VALUE=DATE:20230919
SUMMARY:Zdeněk IZER - Na plný coole
DESCRIPTION:Pořad\, ve&nbsp\;kterém se&nbsp\;setkáte&nbsp\;s&nbsp\;jedinečným a nezaměnitelným humorem Zdeňka&nbsp\;Izera. Jako vždy přijdou na řadu oblíbené zábavné scénky\, parodie\, mnoho skvělých vtipů a imitování celé řady populárních českýchi zahraničních zpěváků a zpěvaček. Vystoupení&nbsp\;je obohacené videoprojekcemi\, nejrůznějšími zábavnými kostýmy a převleky a světelnými efekty.&nbsp\;&nbsp\;Více informacídatum: 18. září&nbsp\;2023čas: 19 hodinmísto: sokolovna ČernovicePředprodej končí 17. září&nbsp\;nebo při naplnění kapacity sálu.&nbsp\;Cena vstupenky na místě je 400&nbsp\;kčSál bude otevřen od 18 hodin. Občerstvení zajistěno.&nbsp\;Pořadatel:Město Černovice\, IČO: 00248037. Změna programu vyhrazena.
LOCATION:Černovice
END:VEVENT
END:VCALENDAR