BEGIN:VCALENDAR
VERSION:2.0
CALSCALE:GREGORIAN
PRODID:-//MyApp//Calendar 1.0//EN
BEGIN:VEVENT
METHOD:PUBLISH
UID:34696@regionalniportaly.cz
DTSTAMP:20260421T222041Z
DTSTART;VALUE=DATE:20231021
DTEND;VALUE=DATE:20231022
SUMMARY:Disko Duní Táborem
DESCRIPTION:DDT&nbsp\; nebo-li Disko Duní Táborem. Jedinečná dikotéková Retroshow. Nejlepší muziku desetiletí nabídnou legendární táborští diskžokejové: Luboš Fany Faic\, Zdeněk Zdenda Veselý\, Milan Bílek\, Dan Čechtický\, Dan Dobiáš - Groove Dan\, Roman Máj nebo Tomáš Hlava. Moderátorem večera bude Martin Hrdinka.Večer začíná ve 20 hodin ve spolkovém domě Střelnice v Táboře.Předprodej vstupenek přes smsticket&nbsp\; - na stání. V Aux Baru - na sezení (středa - pátek&nbsp\; 17 - 19 hod.). Tato ojedinělá akce mohla vzniknout za podpory dotačního programu&nbsp\; města Tábor v oblasti kultury.
LOCATION:Tábor
END:VEVENT
END:VCALENDAR