BEGIN:VCALENDAR
VERSION:2.0
CALSCALE:GREGORIAN
PRODID:-//MyApp//Calendar 1.0//EN
BEGIN:VEVENT
METHOD:PUBLISH
UID:34062@regionalniportaly.cz
DTSTAMP:20260421T192001Z
DTSTART;VALUE=DATE:20230812
DTEND;VALUE=DATE:20230813
SUMMARY:Magické byliny - praktický seminář
DESCRIPTION:Byliny jsou tu pro nás\, po věky nám lidem pomáhají léčit naše tělo a mysl\, mají však i další úctyhodné schopnosti...Srdečně vás zveme na bylinkový seminář pro ty\, kteří se chtějí o bylinkách dozvědět co nejvíce.Uskuteční se druhý víkend v srpnu u nás v Karhuli pod Blaníkem.Seznámíme se s rostlinami\, a každý si nasbírá a naváže vlastní magický svazek. Jedná se o jediný náš kurz v létě. Tak toho využijte!&nbsp\;Přednáška se bude konat v sobotu od 13:00 s maximální kapacitou 8 osob.&nbsp\;Akce se koná za každého počasí. Doporučujeme si s sebou vzít pevnou obuv\, košík a nůžky.&nbsp\;Součástí přednášky bude také komentovaná prohlídka celé naší bylinkové zahrady.Besedou Vás bude provázet bylinkářka Hanka.Těšíme se na vás!&nbsp\;Herba·Roja&nbsp\;Experimentální zahrada pod BlaníkemKarhule 1\,&nbsp\;Pravonín - Karhule
LOCATION:Pravonín
END:VEVENT
END:VCALENDAR