BEGIN:VCALENDAR
VERSION:2.0
CALSCALE:GREGORIAN
PRODID:-//MyApp//Calendar 1.0//EN
BEGIN:VEVENT
METHOD:PUBLISH
UID:32416@regionalniportaly.cz
DTSTAMP:20260421T224053Z
DTSTART;VALUE=DATE:20230611
DTEND;VALUE=DATE:20230612
SUMMARY:Kávový workshop
DESCRIPTION:Užijeme si&nbsp\; kávové odpoledne v klidném prostředí divadelní kavárny&nbsp\;- provedeme Vás světem kávy- poznáte vůně a chutě káv z různých koutů světa- poznáte arabiku i robustu- naučíte se připravit správné espresso- naučíte se základy latte art- ochutnáte cascaru - nápoj ze sušených kávových třešníDélka akce cca hodiny&nbsp\;
LOCATION:Svatý Jan
END:VEVENT
END:VCALENDAR